View In:
ArcGIS JavaScript
ArcGIS Online Map Viewer
ArcGIS Earth
ArcMap
View Footprint In:
ArcGIS Online Map Viewer
Service Description: Aerials_2016
Name: T2016Aerial
Description: Aerials_2016
Single Fused Map Cache: false
Extent:
XMin: 1990000
YMin: 80000
XMax: 2180000
YMax: 320000
Spatial Reference: PROJCS["NAD_1983_South_Carolina_ft",GEOGCS["GCS_North_American_1983",DATUM["D_North_American_1983",SPHEROID["GRS_1980",6378137.0,298.257222101]],PRIMEM["Greenwich",0.0],UNIT["Degree",0.0174532925199433]],PROJECTION["Lambert_Conformal_Conic"],PARAMETER["false_easting",2000000.0],PARAMETER["false_northing",0.0],PARAMETER["central_meridian",-81.0],PARAMETER["standard_parallel_1",32.5],PARAMETER["standard_parallel_2",34.83333333333334],PARAMETER["latitude_of_origin",31.83333333333333],UNIT["Foot",0.3048]]
Initial Extent:
XMin: 1990000
YMin: 80000
XMax: 2180000
YMax: 320000
Spatial Reference: PROJCS["NAD_1983_South_Carolina_ft",GEOGCS["GCS_North_American_1983",DATUM["D_North_American_1983",SPHEROID["GRS_1980",6378137.0,298.257222101]],PRIMEM["Greenwich",0.0],UNIT["Degree",0.0174532925199433]],PROJECTION["Lambert_Conformal_Conic"],PARAMETER["false_easting",2000000.0],PARAMETER["false_northing",0.0],PARAMETER["central_meridian",-81.0],PARAMETER["standard_parallel_1",32.5],PARAMETER["standard_parallel_2",34.83333333333334],PARAMETER["latitude_of_origin",31.83333333333333],UNIT["Foot",0.3048]]
Full Extent:
XMin: 1990000
YMin: 80000
XMax: 2180000
YMax: 320000
Spatial Reference: PROJCS["NAD_1983_South_Carolina_ft",GEOGCS["GCS_North_American_1983",DATUM["D_North_American_1983",SPHEROID["GRS_1980",6378137.0,298.257222101]],PRIMEM["Greenwich",0.0],UNIT["Degree",0.0174532925199433]],PROJECTION["Lambert_Conformal_Conic"],PARAMETER["false_easting",2000000.0],PARAMETER["false_northing",0.0],PARAMETER["central_meridian",-81.0],PARAMETER["standard_parallel_1",32.5],PARAMETER["standard_parallel_2",34.83333333333334],PARAMETER["latitude_of_origin",31.83333333333333],UNIT["Foot",0.3048]]
Pixel Size X: 1.0
Pixel Size Y: 1.0
Band Count: 3
Pixel Type: U8
RasterFunction Infos: {"rasterFunctionInfos": [{
"name": "None",
"description": "",
"help": ""
}]}
Mensuration Capabilities: Basic
Has Histograms: true
Has Colormap: false
Has Multi Dimensions : false
Rendering Rule:
Min Scale: 0
Max Scale: 0
Copyright Text:
Service Data Type: esriImageServiceDataTypeRGB
Min Values: 27, 39, 33
Max Values: 255, 255, 255
Mean Values: 161.52289938695, 164.40281283808, 157.99206635413
Standard Deviation Values: 81.239091854834, 78.578722309116, 84.027857214861
Object ID Field:
Fields:
None
Default Mosaic Method: Center
Allowed Mosaic Methods:
SortField:
SortValue: null
Mosaic Operator: First
Default Compression Quality: 75
Default Resampling Method: Bilinear
Max Record Count: null
Max Image Height: 4100
Max Image Width: 15000
Max Download Image Count: null
Max Mosaic Image Count: null
Allow Raster Function: true
Allow Copy: null
Allow Analysis: null
Allow Compute TiePoints: false
Supports Statistics: false
Supports Advanced Queries: false
Use StandardizedQueries: true
Raster Type Infos:
Name: Raster Dataset
Description: Supports all ArcGIS Raster Datasets
Help:
Has Raster Attribute Table: false
Edit Fields Info: null
Ownership Based AccessControl For Rasters: null
Child Resources:
Info
Histograms
Key Properties
Legend
Raster Function Infos
Supported Operations:
Export Image
Identify
Measure
Compute Histograms
Compute Statistics Histograms
Get Samples
Compute Class Statistics
Query Boundary
Compute Pixel Location
Compute Angles
Validate
Project