View In:
ArcGIS JavaScript
ArcGIS Online Map Viewer
ArcGIS Earth
ArcMap
View Footprint In:
ArcGIS Online Map Viewer
Service Description: T2004Aerials
Name: T2004Aerials
Description:
Single Fused Map Cache: false
Extent:
XMin: 1978578.0956809814
YMin: 83085.57935128533
XMax: 2185139.132419064
YMax: 332510.6379166208
Spatial Reference: 2273
(2273)
Initial Extent:
XMin: 1978578.0956809814
YMin: 83085.57935128533
XMax: 2185139.132419064
YMax: 332510.6379166208
Spatial Reference: 2273
(2273)
Full Extent:
XMin: 1978578.0956809814
YMin: 83085.57935128533
XMax: 2185139.132419064
YMax: 332510.6379166208
Spatial Reference: 2273
(2273)
Pixel Size X: 2.001308330714956
Pixel Size Y: 2.0013083307149544
Band Count: 3
Pixel Type: U8
RasterFunction Infos: {"rasterFunctionInfos": [{
"name": "None",
"description": "",
"help": ""
}]}
Mensuration Capabilities: Basic
Has Histograms: true
Has Colormap: false
Has Multi Dimensions : false
Rendering Rule:
Min Scale: 0
Max Scale: 0
Copyright Text:
Service Data Type: esriImageServiceDataTypeRGB
Min Values: 0, 0, 0
Max Values: 255, 255, 255
Mean Values: 69.228087972732, 94.43379727317, 85.174139750041
Standard Deviation Values: 52.622903541853, 35.87373481346, 33.784857247873
Object ID Field:
Fields:
None
Default Mosaic Method: Center
Allowed Mosaic Methods:
SortField:
SortValue: null
Mosaic Operator: First
Default Compression Quality: 75
Default Resampling Method: Bilinear
Max Record Count: null
Max Image Height: 4100
Max Image Width: 15000
Max Download Image Count: null
Max Mosaic Image Count: null
Allow Raster Function: true
Allow Copy: null
Allow Analysis: null
Allow Compute TiePoints: false
Supports Statistics: false
Supports Advanced Queries: false
Use StandardizedQueries: true
Raster Type Infos:
Name: Raster Dataset
Description: Supports all ArcGIS Raster Datasets
Help:
Has Raster Attribute Table: false
Edit Fields Info: null
Ownership Based AccessControl For Rasters: null
Child Resources:
Info
Histograms
Key Properties
Legend
Raster Function Infos
Supported Operations:
Export Image
Identify
Measure
Compute Histograms
Compute Statistics Histograms
Get Samples
Compute Class Statistics
Query Boundary
Compute Pixel Location
Compute Angles
Validate
Project