View In:
ArcGIS JavaScript
ArcGIS Online Map Viewer
ArcGIS Earth
ArcMap
View Footprint In:
ArcGIS Online Map Viewer
Service Description: T1994Aerials
Name: T1994Aerials
Description:
Single Fused Map Cache: false
Extent:
XMin: 487909.124
YMin: 3540135.404
XMax: 559150.1240000001
YMax: 3623954.404
Spatial Reference: 26917
(26917)
Initial Extent:
XMin: 487909.124
YMin: 3540135.404
XMax: 559150.1240000001
YMax: 3623954.404
Spatial Reference: 26917
(26917)
Full Extent:
XMin: 487909.124
YMin: 3540135.404
XMax: 559150.1240000001
YMax: 3623954.404
Spatial Reference: 26917
(26917)
Pixel Size X: 1.0000000000000009
Pixel Size Y: 1.0
Band Count: 3
Pixel Type: U8
RasterFunction Infos: {"rasterFunctionInfos": [{
"name": "None",
"description": "",
"help": ""
}]}
Mensuration Capabilities: Basic
Has Histograms: true
Has Colormap: false
Has Multi Dimensions : false
Rendering Rule:
Min Scale: 0
Max Scale: 0
Copyright Text:
Service Data Type: esriImageServiceDataTypeRGB
Min Values: 0, 0, 0
Max Values: 180, 183, 194
Mean Values: 38.351219512195, 53.794773519164, 49.590940766551
Standard Deviation Values: 49.266437575038, 48.864896307583, 48.499771056107
Object ID Field:
Fields:
None
Default Mosaic Method: Center
Allowed Mosaic Methods:
SortField:
SortValue: null
Mosaic Operator: First
Default Compression Quality: 75
Default Resampling Method: Bilinear
Max Record Count: null
Max Image Height: 4100
Max Image Width: 15000
Max Download Image Count: null
Max Mosaic Image Count: null
Allow Raster Function: true
Allow Copy: null
Allow Analysis: null
Allow Compute TiePoints: false
Supports Statistics: false
Supports Advanced Queries: false
Use StandardizedQueries: true
Raster Type Infos:
Name: Raster Dataset
Description: Supports all ArcGIS Raster Datasets
Help:
Has Raster Attribute Table: false
Edit Fields Info: null
Ownership Based AccessControl For Rasters: null
Child Resources:
Info
Histograms
Key Properties
Legend
Raster Function Infos
Supported Operations:
Export Image
Identify
Measure
Compute Histograms
Compute Statistics Histograms
Get Samples
Compute Class Statistics
Query Boundary
Compute Pixel Location
Compute Angles
Validate
Project