{
 "currentVersion": 10.91,
 "serviceDescription": "T2020Dem",
 "name": "T2020Dem",
 "description": "",
 "extent": {
  "xmin": 1992447.4346093088,
  "ymin": 86318.99651017785,
  "xmax": 2217997.434609309,
  "ymax": 321438.99651017785,
  "spatialReference": {
   "wkt": "PROJCS[\"NAD_1983_2011_StatePlane_South_Carolina_FIPS_3900_Ft_Intl\",GEOGCS[\"GCS_NAD_1983_2011\",DATUM[\"D_NAD_1983_2011\",SPHEROID[\"GRS_1980\",6378137.0,298.257222101]],PRIMEM[\"Greenwich\",0.0],UNIT[\"Degree\",0.0174532925199433]],PROJECTION[\"Lambert_Conformal_Conic\"],PARAMETER[\"False_Easting\",2000000.0],PARAMETER[\"False_Northing\",0.0],PARAMETER[\"Central_Meridian\",-81.0],PARAMETER[\"Standard_Parallel_1\",32.5],PARAMETER[\"Standard_Parallel_2\",34.83333333333334],PARAMETER[\"Latitude_Of_Origin\",31.83333333333333],UNIT[\"Foot\",0.3048]],VERTCS[\"NAVD88 height - Geoid18 (ftUS)\",VDATUM[\"North American Vertical Datum 1988\"],PARAMETER[\"Vertical_Shift\",0.0],PARAMETER[\"Direction\",1.0],UNIT[\"US survey foot\",0.3048006096012192]]"
  }
 },
 "initialExtent": {
  "xmin": 1992447.4346093088,
  "ymin": 86318.99651017785,
  "xmax": 2217997.434609309,
  "ymax": 321438.99651017785,
  "spatialReference": {
   "wkt": "PROJCS[\"NAD_1983_2011_StatePlane_South_Carolina_FIPS_3900_Ft_Intl\",GEOGCS[\"GCS_NAD_1983_2011\",DATUM[\"D_NAD_1983_2011\",SPHEROID[\"GRS_1980\",6378137.0,298.257222101]],PRIMEM[\"Greenwich\",0.0],UNIT[\"Degree\",0.0174532925199433]],PROJECTION[\"Lambert_Conformal_Conic\"],PARAMETER[\"False_Easting\",2000000.0],PARAMETER[\"False_Northing\",0.0],PARAMETER[\"Central_Meridian\",-81.0],PARAMETER[\"Standard_Parallel_1\",32.5],PARAMETER[\"Standard_Parallel_2\",34.83333333333334],PARAMETER[\"Latitude_Of_Origin\",31.83333333333333],UNIT[\"Foot\",0.3048]],VERTCS[\"NAVD88 height - Geoid18 (ftUS)\",VDATUM[\"North American Vertical Datum 1988\"],PARAMETER[\"Vertical_Shift\",0.0],PARAMETER[\"Direction\",1.0],UNIT[\"US survey foot\",0.3048006096012192]]"
  }
 },
 "fullExtent": {
  "xmin": 1992447.4346093088,
  "ymin": 86318.99651017785,
  "xmax": 2217997.434609309,
  "ymax": 321438.99651017785,
  "spatialReference": {
   "wkt": "PROJCS[\"NAD_1983_2011_StatePlane_South_Carolina_FIPS_3900_Ft_Intl\",GEOGCS[\"GCS_NAD_1983_2011\",DATUM[\"D_NAD_1983_2011\",SPHEROID[\"GRS_1980\",6378137.0,298.257222101]],PRIMEM[\"Greenwich\",0.0],UNIT[\"Degree\",0.0174532925199433]],PROJECTION[\"Lambert_Conformal_Conic\"],PARAMETER[\"False_Easting\",2000000.0],PARAMETER[\"False_Northing\",0.0],PARAMETER[\"Central_Meridian\",-81.0],PARAMETER[\"Standard_Parallel_1\",32.5],PARAMETER[\"Standard_Parallel_2\",34.83333333333334],PARAMETER[\"Latitude_Of_Origin\",31.83333333333333],UNIT[\"Foot\",0.3048]],VERTCS[\"NAVD88 height - Geoid18 (ftUS)\",VDATUM[\"North American Vertical Datum 1988\"],PARAMETER[\"Vertical_Shift\",0.0],PARAMETER[\"Direction\",1.0],UNIT[\"US survey foot\",0.3048006096012192]]"
  }
 },
 "heightModelInfo": {
  "heightModel": "gravity_related_height",
  "vertCRS": "NAVD88 height - Geoid18 (ftUS)",
  "heightUnit": "us-foot"
 },
 "pixelSizeX": 10,
 "pixelSizeY": 10,
 "bandCount": 1,
 "pixelType": "F32",
 "minPixelSize": 0,
 "maxPixelSize": 0,
 "copyrightText": "",
 "serviceDataType": "esriImageServiceDataTypeGeneric",
 "minValues": [
  -110
 ],
 "maxValues": [
  85
 ],
 "meanValues": [
  7.9960737034883325
 ],
 "stdvValues": [
  9.120031957979409
 ],
 "objectIdField": "",
 "fields": [],
 "capabilities": "Image,Metadata,Catalog,Mensuration",
 "defaultMosaicMethod": "Northwest",
 "allowedMosaicMethods": "NorthWest,Center,LockRaster,ByAttribute,Nadir,Viewpoint,Seamline,None",
 "sortField": "",
 "sortValue": null,
 "sortAscending": true,
 "mosaicOperator": "First",
 "maxDownloadSizeLimit": 2048,
 "defaultCompressionQuality": 75,
 "defaultResamplingMethod": "Bilinear",
 "maxImageHeight": 4100,
 "maxImageWidth": 15000,
 "maxRecordCount": 1000,
 "maxDownloadImageCount": 20,
 "maxMosaicImageCount": 20,
 "allowRasterFunction": true,
 "rasterFunctionInfos": [
  {
   "name": "Test",
   "description": "A raster function template.",
   "help": ""
  },
  {
   "name": "None",
   "description": "",
   "help": ""
  }
 ],
 "rasterTypeInfos": [
  {
   "name": "Raster Dataset",
   "description": "Supports all ArcGIS Raster Datasets",
   "help": ""
  }
 ],
 "mensurationCapabilities": "Basic",
 "hasHistograms": true,
 "hasColormap": false,
 "hasRasterAttributeTable": false,
 "minScale": 0,
 "maxScale": 0,
 "exportTilesAllowed": false,
 "hasMultidimensions": false,
 "supportsStatistics": false,
 "supportsAdvancedQueries": false,
 "editFieldsInfo": null,
 "ownershipBasedAccessControlForRasters": null,
 "allowComputeTiePoints": false,
 "useStandardizedQueries": true,
 "advancedQueryCapabilities": {
  "useStandardizedQueries": true,
  "supportsStatistics": false,
  "supportsOrderBy": false,
  "supportsDistinct": false,
  "supportsPagination": false
 },
 "spatialReference": {
  "wkt": "PROJCS[\"NAD_1983_2011_StatePlane_South_Carolina_FIPS_3900_Ft_Intl\",GEOGCS[\"GCS_NAD_1983_2011\",DATUM[\"D_NAD_1983_2011\",SPHEROID[\"GRS_1980\",6378137.0,298.257222101]],PRIMEM[\"Greenwich\",0.0],UNIT[\"Degree\",0.0174532925199433]],PROJECTION[\"Lambert_Conformal_Conic\"],PARAMETER[\"False_Easting\",2000000.0],PARAMETER[\"False_Northing\",0.0],PARAMETER[\"Central_Meridian\",-81.0],PARAMETER[\"Standard_Parallel_1\",32.5],PARAMETER[\"Standard_Parallel_2\",34.83333333333334],PARAMETER[\"Latitude_Of_Origin\",31.83333333333333],UNIT[\"Foot\",0.3048]],VERTCS[\"NAVD88 height - Geoid18 (ftUS)\",VDATUM[\"North American Vertical Datum 1988\"],PARAMETER[\"Vertical_Shift\",0.0],PARAMETER[\"Direction\",1.0],UNIT[\"US survey foot\",0.3048006096012192]]"
 }
}
