{
 "currentVersion": 10.91,
 "serviceDescription": "T2012Aerials",
 "name": "T2012Aerials",
 "description": "",
 "extent": {
  "xmin": 1990000,
  "ymin": 80000,
  "xmax": 2180000,
  "ymax": 320000,
  "spatialReference": {
   "wkid": 2273,
   "latestWkid": 2273
  }
 },
 "initialExtent": {
  "xmin": 1990000,
  "ymin": 80000,
  "xmax": 2180000,
  "ymax": 320000,
  "spatialReference": {
   "wkid": 2273,
   "latestWkid": 2273
  }
 },
 "fullExtent": {
  "xmin": 1990000,
  "ymin": 80000,
  "xmax": 2180000,
  "ymax": 320000,
  "spatialReference": {
   "wkid": 2273,
   "latestWkid": 2273
  }
 },
 "pixelSizeX": 1,
 "pixelSizeY": 1,
 "bandCount": 3,
 "pixelType": "U8",
 "minPixelSize": 0,
 "maxPixelSize": 0,
 "copyrightText": "",
 "serviceDataType": "esriImageServiceDataTypeRGB",
 "minValues": [
  25,
  48,
  43
 ],
 "maxValues": [
  255,
  255,
  255
 ],
 "meanValues": [
  166.72592859719,
  172.0598629643,
  168.48827984133
 ],
 "stdvValues": [
  88.898613438201,
  83.484180471622,
  87.035308479606
 ],
 "objectIdField": "",
 "fields": [],
 "capabilities": "Image,Metadata,Mensuration",
 "defaultMosaicMethod": "Center",
 "allowedMosaicMethods": "",
 "sortField": "",
 "sortValue": null,
 "sortAscending": true,
 "mosaicOperator": "First",
 "defaultCompressionQuality": 75,
 "defaultResamplingMethod": "Bilinear",
 "maxImageHeight": 4100,
 "maxImageWidth": 15000,
 "allowRasterFunction": true,
 "rasterFunctionInfos": [
  {
   "name": "None",
   "description": "",
   "help": ""
  }
 ],
 "rasterTypeInfos": [
  {
   "name": "Raster Dataset",
   "description": "Supports all ArcGIS Raster Datasets",
   "help": ""
  }
 ],
 "mensurationCapabilities": "Basic",
 "hasHistograms": true,
 "hasColormap": false,
 "hasRasterAttributeTable": false,
 "minScale": 0,
 "maxScale": 0,
 "exportTilesAllowed": false,
 "hasMultidimensions": false,
 "supportsStatistics": false,
 "supportsAdvancedQueries": false,
 "editFieldsInfo": null,
 "ownershipBasedAccessControlForRasters": null,
 "allowComputeTiePoints": false,
 "useStandardizedQueries": true,
 "advancedQueryCapabilities": {
  "useStandardizedQueries": true,
  "supportsStatistics": false,
  "supportsOrderBy": false,
  "supportsDistinct": false,
  "supportsPagination": false
 },
 "spatialReference": {
  "wkid": 2273,
  "latestWkid": 2273
 }
}
