{
 "currentVersion": 10.91,
 "serviceDescription": "T2006Aerials",
 "name": "T2006Aerials",
 "description": "",
 "extent": {
  "xmin": 1987025,
  "ymin": 83100,
  "xmax": 2182275,
  "ymax": 319700,
  "spatialReference": {
   "wkt": "PROJCS[\"NAD_1983_South_Carolina\",GEOGCS[\"GCS_North_American_1983\",DATUM[\"D_North_American_1983\",SPHEROID[\"GRS_1980\",6378137.0,298.257222101]],PRIMEM[\"Greenwich\",0.0],UNIT[\"Degree\",0.0174532925199433]],PROJECTION[\"Lambert_Conformal_Conic\"],PARAMETER[\"false_easting\",2000000.0],PARAMETER[\"false_northing\",0.0],PARAMETER[\"central_meridian\",-81.0],PARAMETER[\"standard_parallel_1\",32.5],PARAMETER[\"standard_parallel_2\",34.83333333333334],PARAMETER[\"latitude_of_origin\",31.83333333333333],UNIT[\"Foot\",0.3048]]"
  }
 },
 "initialExtent": {
  "xmin": 1987025,
  "ymin": 83100,
  "xmax": 2182275,
  "ymax": 319700,
  "spatialReference": {
   "wkt": "PROJCS[\"NAD_1983_South_Carolina\",GEOGCS[\"GCS_North_American_1983\",DATUM[\"D_North_American_1983\",SPHEROID[\"GRS_1980\",6378137.0,298.257222101]],PRIMEM[\"Greenwich\",0.0],UNIT[\"Degree\",0.0174532925199433]],PROJECTION[\"Lambert_Conformal_Conic\"],PARAMETER[\"false_easting\",2000000.0],PARAMETER[\"false_northing\",0.0],PARAMETER[\"central_meridian\",-81.0],PARAMETER[\"standard_parallel_1\",32.5],PARAMETER[\"standard_parallel_2\",34.83333333333334],PARAMETER[\"latitude_of_origin\",31.83333333333333],UNIT[\"Foot\",0.3048]]"
  }
 },
 "fullExtent": {
  "xmin": 1987025,
  "ymin": 83100,
  "xmax": 2182275,
  "ymax": 319700,
  "spatialReference": {
   "wkt": "PROJCS[\"NAD_1983_South_Carolina\",GEOGCS[\"GCS_North_American_1983\",DATUM[\"D_North_American_1983\",SPHEROID[\"GRS_1980\",6378137.0,298.257222101]],PRIMEM[\"Greenwich\",0.0],UNIT[\"Degree\",0.0174532925199433]],PROJECTION[\"Lambert_Conformal_Conic\"],PARAMETER[\"false_easting\",2000000.0],PARAMETER[\"false_northing\",0.0],PARAMETER[\"central_meridian\",-81.0],PARAMETER[\"standard_parallel_1\",32.5],PARAMETER[\"standard_parallel_2\",34.83333333333334],PARAMETER[\"latitude_of_origin\",31.83333333333333],UNIT[\"Foot\",0.3048]]"
  }
 },
 "pixelSizeX": 1,
 "pixelSizeY": 1,
 "bandCount": 3,
 "pixelType": "U8",
 "minPixelSize": 0,
 "maxPixelSize": 0,
 "copyrightText": "",
 "serviceDataType": "esriImageServiceDataTypeRGB",
 "minValues": [
  0,
  0,
  0
 ],
 "maxValues": [
  255,
  255,
  255
 ],
 "meanValues": [
  164.64798850575,
  165.0930316092,
  162.47198275862
 ],
 "stdvValues": [
  81.812362037536,
  81.326972613211,
  83.584967383528
 ],
 "objectIdField": "",
 "fields": [],
 "capabilities": "Image,Metadata,Mensuration",
 "defaultMosaicMethod": "Center",
 "allowedMosaicMethods": "",
 "sortField": "",
 "sortValue": null,
 "sortAscending": true,
 "mosaicOperator": "First",
 "defaultCompressionQuality": 75,
 "defaultResamplingMethod": "Bilinear",
 "maxImageHeight": 4100,
 "maxImageWidth": 15000,
 "allowRasterFunction": true,
 "rasterFunctionInfos": [
  {
   "name": "None",
   "description": "",
   "help": ""
  }
 ],
 "rasterTypeInfos": [
  {
   "name": "Raster Dataset",
   "description": "Supports all ArcGIS Raster Datasets",
   "help": ""
  }
 ],
 "mensurationCapabilities": "Basic",
 "hasHistograms": true,
 "hasColormap": false,
 "hasRasterAttributeTable": false,
 "minScale": 0,
 "maxScale": 0,
 "exportTilesAllowed": false,
 "hasMultidimensions": false,
 "supportsStatistics": false,
 "supportsAdvancedQueries": false,
 "editFieldsInfo": null,
 "ownershipBasedAccessControlForRasters": null,
 "allowComputeTiePoints": false,
 "useStandardizedQueries": true,
 "advancedQueryCapabilities": {
  "useStandardizedQueries": true,
  "supportsStatistics": false,
  "supportsOrderBy": false,
  "supportsDistinct": false,
  "supportsPagination": false
 },
 "spatialReference": {
  "wkt": "PROJCS[\"NAD_1983_South_Carolina\",GEOGCS[\"GCS_North_American_1983\",DATUM[\"D_North_American_1983\",SPHEROID[\"GRS_1980\",6378137.0,298.257222101]],PRIMEM[\"Greenwich\",0.0],UNIT[\"Degree\",0.0174532925199433]],PROJECTION[\"Lambert_Conformal_Conic\"],PARAMETER[\"false_easting\",2000000.0],PARAMETER[\"false_northing\",0.0],PARAMETER[\"central_meridian\",-81.0],PARAMETER[\"standard_parallel_1\",32.5],PARAMETER[\"standard_parallel_2\",34.83333333333334],PARAMETER[\"latitude_of_origin\",31.83333333333333],UNIT[\"Foot\",0.3048]]"
 }
}
