<?xml version="1.0" encoding="UTF-8" standalone="no"?>
<metadata xml:lang="en">
<Esri>
<MetaID>{97F4FE8D-F72C-4EB0-BE35-CF9B7E6DD569}</MetaID>
<CreaDate>20080129</CreaDate>
<CreaTime>07545200</CreaTime>
<SyncOnce>FALSE</SyncOnce>
<SyncDate>20080129</SyncDate>
<SyncTime>07550700</SyncTime>
<ModDate>20080129</ModDate>
<ModTime>07550700</ModTime>
</Esri>
<idinfo>
<native Sync="FALSE">ESRI ArcCatalog 9.0.0.535</native>
<descript>
<langdata Sync="TRUE">en</langdata>
<abstract>REQUIRED: A brief narrative summary of the data set.</abstract>
<purpose>REQUIRED: A summary of the intentions with which the data set was developed.</purpose>
</descript>
<citation>
<citeinfo>
<origin>REQUIRED: The name of an organization or individual that developed the data set.</origin>
<pubdate>REQUIRED: The date when the data set is published or otherwise made available for release.</pubdate>
<title Sync="TRUE">beaufort_gen2.sid</title>
<ftname Sync="TRUE">beaufort_gen2.sid</ftname>
<geoform Sync="TRUE">remote-sensing image</geoform>
<onlink Sync="FALSE">withheld</onlink>
</citeinfo>
</citation>
<timeperd>
<current>REQUIRED: The basis on which the time period of content information is determined.</current>
<timeinfo>
<sngdate>
<caldate>REQUIRED: The year (and optionally month, or month and day) for which the data set corresponds to the ground.</caldate>
</sngdate>
</timeinfo>
</timeperd>
<status>
<progress>REQUIRED: The state of the data set.</progress>
<update>REQUIRED: The frequency with which changes and additions are made to the data set after the initial data set is completed.</update>
</status>
<spdom>
<bounding>
<westbc Sync="TRUE">-81.069675</westbc>
<eastbc Sync="TRUE">-80.397835</eastbc>
<northbc Sync="TRUE">32.747197</northbc>
<southbc Sync="TRUE">32.060191</southbc>
</bounding>
<lboundng>
<leftbc Sync="TRUE">1978578.095681</leftbc>
<rightbc Sync="TRUE">2185139.132419</rightbc>
<bottombc Sync="TRUE">83085.579351</bottombc>
<topbc Sync="TRUE">332510.637917</topbc>
</lboundng>
</spdom>
<keywords>
<theme>
<themekt>REQUIRED: Reference to a formally registered thesaurus or a similar authoritative source of theme keywords.</themekt>
<themekey>REQUIRED: Common-use word or phrase used to describe the subject of the data set.</themekey>
</theme>
</keywords>
<accconst>REQUIRED: Restrictions and legal prerequisites for accessing the data set.</accconst>
<useconst>REQUIRED: Restrictions and legal prerequisites for using the data set after access is granted.</useconst>
<natvform Sync="TRUE">Raster Dataset</natvform>
</idinfo>
<dataIdInfo>
<envirDesc Sync="FALSE">ESRI ArcCatalog 9.0.0.535</envirDesc>
<dataLang>
<languageCode Sync="TRUE" value="en">
</languageCode>
</dataLang>
<idCitation>
<resTitle Sync="TRUE">beaufort_gen2.sid</resTitle>
<presForm>
<PresFormCd Sync="TRUE" value="005">
</PresFormCd>
</presForm>
</idCitation>
<spatRpType>
<SpatRepTypCd Sync="TRUE" value="002">
</SpatRepTypCd>
</spatRpType>
<dataExt>
<geoEle>
<GeoBndBox esriExtentType="native">
<westBL Sync="TRUE">1978578.095681</westBL>
<eastBL Sync="TRUE">2185139.132419</eastBL>
<northBL Sync="TRUE">332510.637917</northBL>
<southBL Sync="TRUE">83085.579351</southBL>
<exTypeCode Sync="TRUE">1</exTypeCode>
</GeoBndBox>
</geoEle>
</dataExt>
<geoBox esriExtentType="decdegrees">
<westBL Sync="TRUE">-81.069675</westBL>
<eastBL Sync="TRUE">-80.397835</eastBL>
<northBL Sync="TRUE">32.747197</northBL>
<southBL Sync="TRUE">32.060191</southBL>
<exTypeCode Sync="TRUE">1</exTypeCode>
</geoBox>
<idAbs/>
<idPurp/>
<idCredit/>
<resConst>
<Consts>
<useLimit/>
</Consts>
</resConst>
</dataIdInfo>
<metainfo>
<langmeta Sync="TRUE">en</langmeta>
<metstdn Sync="TRUE">FGDC Content Standards for Digital Geospatial Metadata</metstdn>
<metstdv Sync="TRUE">FGDC-STD-001-1998</metstdv>
<mettc Sync="TRUE">local time</mettc>
<metc>
<cntinfo>
<cntorgp>
<cntper>REQUIRED: The person responsible for the metadata information.</cntper>
<cntorg>REQUIRED: The organization responsible for the metadata information.</cntorg>
</cntorgp>
<cntaddr>
<addrtype>REQUIRED: The mailing and/or physical address for the organization or individual.</addrtype>
<city>REQUIRED: The city of the address.</city>
<state>REQUIRED: The state or province of the address.</state>
<postal>REQUIRED: The ZIP or other postal code of the address.</postal>
</cntaddr>
<cntvoice>REQUIRED: The telephone number by which individuals can speak to the organization or individual.</cntvoice>
</cntinfo>
</metc>
<metd Sync="TRUE">20080129</metd>
<metextns>
<onlink Sync="TRUE">http://www.esri.com/metadata/esriprof80.html</onlink>
<metprof Sync="TRUE">ESRI Metadata Profile</metprof>
</metextns>
</metainfo>
<mdLang>
<languageCode Sync="TRUE" value="en">
</languageCode>
</mdLang>
<mdStanName Sync="TRUE">ISO 19115 Geographic Information - Metadata</mdStanName>
<mdStanVer Sync="TRUE">DIS_ESRI1.0</mdStanVer>
<mdChar>
<CharSetCd Sync="TRUE" value="004">
</CharSetCd>
</mdChar>
<mdHrLv>
<ScopeCd Sync="TRUE" value="005">
</ScopeCd>
</mdHrLv>
<mdHrLvName Sync="TRUE">dataset</mdHrLvName>
<distinfo>
<resdesc Sync="TRUE">Downloadable Data</resdesc>
<stdorder>
<digform>
<digtinfo>
<transize Sync="TRUE">1313.301</transize>
<dssize Sync="TRUE">1313.301</dssize>
</digtinfo>
</digform>
</stdorder>
</distinfo>
<distInfo>
<distributor>
<distorTran>
<onLineSrc>
<orDesc Sync="TRUE">002</orDesc>
<linkage Sync="FALSE">withheld</linkage>
<protocol Sync="TRUE">Local Area Network</protocol>
</onLineSrc>
<transSize Sync="TRUE">1313.301</transSize>
</distorTran>
<distorFormat>
<formatName Sync="TRUE">Raster Dataset</formatName>
</distorFormat>
</distributor>
</distInfo>
<spdoinfo>
<direct Sync="TRUE">Raster</direct>
<rastinfo>
<rasttype Sync="TRUE">Pixel</rasttype>
<rowcount Sync="TRUE">124631</rowcount>
<colcount Sync="TRUE">103213</colcount>
<rastxsz Sync="TRUE">2.001308</rastxsz>
<rastysz Sync="TRUE">2.001308</rastysz>
<rastbpp Sync="TRUE">8</rastbpp>
<vrtcount Sync="TRUE">1</vrtcount>
<rastorig Sync="TRUE">Upper Left</rastorig>
<rastcmap Sync="TRUE">FALSE</rastcmap>
<rastcomp Sync="TRUE">Wavelet</rastcomp>
<rastband Sync="TRUE">3</rastband>
<rastdtyp Sync="TRUE">pixel codes</rastdtyp>
<rastplyr Sync="TRUE">TRUE</rastplyr>
<rastifor Sync="TRUE">MrSID</rastifor>
</rastinfo>
</spdoinfo>
<spref>
<horizsys>
<cordsysn>
<geogcsn Sync="TRUE">GCS_North_American_1983</geogcsn>
<projcsn Sync="TRUE">NAD_1983_StatePlane_South_Carolina_FIPS_3900</projcsn>
</cordsysn>
<planar>
<planci>
<plance Sync="TRUE">row and column</plance>
<plandu Sync="TRUE">international feet</plandu>
<coordrep>
<absres Sync="TRUE">2.001308</absres>
<ordres Sync="TRUE">2.001308</ordres>
</coordrep>
</planci>
<mapproj>
<mapprojn Sync="TRUE">Lambert Conformal Conic</mapprojn>
<lambertc>
<stdparll Sync="TRUE">32.500000</stdparll>
<stdparll Sync="TRUE">34.833333</stdparll>
<longcm Sync="TRUE">-81.000000</longcm>
<latprjo Sync="TRUE">31.833333</latprjo>
<feast Sync="TRUE">2000000.000000</feast>
<fnorth Sync="TRUE">0.000000</fnorth>
</lambertc>
</mapproj>
</planar>
<geodetic>
<horizdn Sync="TRUE">North American Datum of 1983</horizdn>
<ellips Sync="TRUE">Geodetic Reference System 80</ellips>
<semiaxis Sync="TRUE">6378137.000000</semiaxis>
<denflat Sync="TRUE">298.257222</denflat>
</geodetic>
</horizsys>
</spref>
<refSysInfo>
<RefSystem>
<refSysID>
<identCode Sync="TRUE">NAD_1983_StatePlane_South_Carolina_FIPS_3900</identCode>
</refSysID>
</RefSystem>
</refSysInfo>
<spatRepInfo>
<GridSpatRep>
<numDims Sync="TRUE">2</numDims>
<cellGeo>
<CellGeoCd Sync="TRUE" value="002">
</CellGeoCd>
</cellGeo>
<tranParaAv Sync="TRUE">1</tranParaAv>
<axDimProps>
<Dimen>
<dimName>
<DimNameTypCd Sync="TRUE" value="002">
</DimNameTypCd>
</dimName>
<dimSize Sync="TRUE">103213</dimSize>
<dimResol>
<value Sync="TRUE">2.001308</value>
<uom>
<UomLength>
<uomName Sync="TRUE">Foot</uomName>
<conversionToISOstandardUnit Sync="TRUE">1 Foot = 0.3048 Meter(s)</conversionToISOstandardUnit>
</UomLength>
</uom>
</dimResol>
</Dimen>
<Dimen>
<dimName>
<DimNameTypCd Sync="TRUE" value="001">
</DimNameTypCd>
</dimName>
<dimSize Sync="TRUE">124631</dimSize>
<dimResol>
<value Sync="TRUE">2.001308</value>
<uom>
<UomLength>
<uomName Sync="TRUE">Foot</uomName>
<conversionToISOstandardUnit Sync="TRUE">1 Foot = 0.3048 Meter(s)</conversionToISOstandardUnit>
</UomLength>
</uom>
</dimResol>
</Dimen>
</axDimProps>
</GridSpatRep>
</spatRepInfo>
<eainfo>
<detailed Name="Band_1">
<enttyp>
<enttypl Sync="TRUE">Band_1</enttypl>
<enttypt Sync="TRUE">Table</enttypt>
<enttypc Sync="TRUE">256</enttypc>
</enttyp>
<attr>
<attrlabl Sync="TRUE">ObjectID</attrlabl>
<attalias Sync="TRUE">ObjectID</attalias>
<attrtype Sync="TRUE">OID</attrtype>
<attwidth Sync="TRUE">4</attwidth>
<atprecis Sync="TRUE">0</atprecis>
<attscale Sync="TRUE">0</attscale>
<attrdef Sync="TRUE">Internal feature number.</attrdef>
<attrdefs Sync="TRUE">ESRI</attrdefs>
<attrdomv>
<udom Sync="TRUE">Sequential unique whole numbers that are automatically generated.</udom>
</attrdomv>
</attr>
<attr>
<attrlabl Sync="TRUE">Value</attrlabl>
<attalias Sync="TRUE">Value</attalias>
<attrtype Sync="TRUE">Integer</attrtype>
<attwidth Sync="TRUE">0</attwidth>
<atprecis Sync="TRUE">0</atprecis>
<attscale Sync="TRUE">0</attscale>
</attr>
<attr>
<attrlabl Sync="TRUE">Count</attrlabl>
<attalias Sync="TRUE">Count</attalias>
<attrtype Sync="TRUE">Integer</attrtype>
<attwidth Sync="TRUE">0</attwidth>
<atprecis Sync="TRUE">0</atprecis>
<attscale Sync="TRUE">0</attscale>
</attr>
</detailed>
<detailed Name="Band_2">
<enttyp>
<enttypl Sync="TRUE">Band_2</enttypl>
<enttypt Sync="TRUE">Table</enttypt>
<enttypc Sync="TRUE">256</enttypc>
</enttyp>
<attr>
<attrlabl Sync="TRUE">ObjectID</attrlabl>
<attalias Sync="TRUE">ObjectID</attalias>
<attrtype Sync="TRUE">OID</attrtype>
<attwidth Sync="TRUE">4</attwidth>
<atprecis Sync="TRUE">0</atprecis>
<attscale Sync="TRUE">0</attscale>
<attrdef Sync="TRUE">Internal feature number.</attrdef>
<attrdefs Sync="TRUE">ESRI</attrdefs>
<attrdomv>
<udom Sync="TRUE">Sequential unique whole numbers that are automatically generated.</udom>
</attrdomv>
</attr>
<attr>
<attrlabl Sync="TRUE">Value</attrlabl>
<attalias Sync="TRUE">Value</attalias>
<attrtype Sync="TRUE">Integer</attrtype>
<attwidth Sync="TRUE">0</attwidth>
<atprecis Sync="TRUE">0</atprecis>
<attscale Sync="TRUE">0</attscale>
</attr>
<attr>
<attrlabl Sync="TRUE">Count</attrlabl>
<attalias Sync="TRUE">Count</attalias>
<attrtype Sync="TRUE">Integer</attrtype>
<attwidth Sync="TRUE">0</attwidth>
<atprecis Sync="TRUE">0</atprecis>
<attscale Sync="TRUE">0</attscale>
</attr>
</detailed>
<detailed Name="Band_3">
<enttyp>
<enttypl Sync="TRUE">Band_3</enttypl>
<enttypt Sync="TRUE">Table</enttypt>
<enttypc Sync="TRUE">256</enttypc>
</enttyp>
<attr>
<attrlabl Sync="TRUE">ObjectID</attrlabl>
<attalias Sync="TRUE">ObjectID</attalias>
<attrtype Sync="TRUE">OID</attrtype>
<attwidth Sync="TRUE">4</attwidth>
<atprecis Sync="TRUE">0</atprecis>
<attscale Sync="TRUE">0</attscale>
<attrdef Sync="TRUE">Internal feature number.</attrdef>
<attrdefs Sync="TRUE">ESRI</attrdefs>
<attrdomv>
<udom Sync="TRUE">Sequential unique whole numbers that are automatically generated.</udom>
</attrdomv>
</attr>
<attr>
<attrlabl Sync="TRUE">Value</attrlabl>
<attalias Sync="TRUE">Value</attalias>
<attrtype Sync="TRUE">Integer</attrtype>
<attwidth Sync="TRUE">0</attwidth>
<atprecis Sync="TRUE">0</atprecis>
<attscale Sync="TRUE">0</attscale>
</attr>
<attr>
<attrlabl Sync="TRUE">Count</attrlabl>
<attalias Sync="TRUE">Count</attalias>
<attrtype Sync="TRUE">Integer</attrtype>
<attwidth Sync="TRUE">0</attwidth>
<atprecis Sync="TRUE">0</atprecis>
<attscale Sync="TRUE">0</attscale>
</attr>
</detailed>
</eainfo>
<mdDateSt Sync="TRUE">20080129</mdDateSt>
</metadata>
